BEGIN:VCALENDAR
VERSION:2.0
PRODID:-//wp-events-plugin.com//7.2.3.1//EN
TZID:Europe/Berlin
X-WR-TIMEZONE:Europe/Berlin
BEGIN:VEVENT
UID:196@feuerwehr-obertrubach.de
DTSTART;TZID=Europe/Berlin:20250103T153000
DTEND;TZID=Europe/Berlin:20250103T210000
DTSTAMP:20231231T120416Z
URL:https://www.feuerwehr-obertrubach.de/events/ewige-anbetung-2/
SUMMARY:Ewige Anbetung
DESCRIPTION:
CATEGORIES:Ehrendienst,Geselligkeit
LOCATION:Rathaus Obertrubach\, Teichstraße 5\, Obertrubach\, Bayern\, 9128
 6\, Oberfranken\, Deutschland
GEO:49.69533999999999;11.347719999999981
X-APPLE-STRUCTURED-LOCATION;VALUE=URI;X-ADDRESS=Teichstraße 5\, Obertrubac
 h\, Bayern\, 91286\, Oberfranken\, Deutschland;X-APPLE-RADIUS=100;X-TITLE=
 Rathaus Obertrubach:geo:49.69533999999999,11.347719999999981
END:VEVENT
BEGIN:VTIMEZONE
TZID:Europe/Berlin
X-LIC-LOCATION:Europe/Berlin
BEGIN:STANDARD
DTSTART:20241027T020000
TZOFFSETFROM:+0200
TZOFFSETTO:+0100
TZNAME:CET
END:STANDARD
END:VTIMEZONE
END:VCALENDAR