BEGIN:VCALENDAR
VERSION:2.0
PRODID:-//wp-events-plugin.com//7.2.3.1//EN
TZID:Europe/Berlin
X-WR-TIMEZONE:Europe/Berlin
BEGIN:VEVENT
UID:135@feuerwehr-obertrubach.de
DTSTART;TZID=Europe/Berlin:20220528T170000
DTEND;TZID=Europe/Berlin:20220528T230000
DTSTAMP:20220512T052344Z
URL:https://www.feuerwehr-obertrubach.de/events/grillfest-3/
SUMMARY:Grillfest
DESCRIPTION:
CATEGORIES:Fest,Geselligkeit
LOCATION:Feuerwehr Obertrubach\, Neudorfer Weg 11\, Obertrubach\, Deutschla
 nd
GEO:49.693987;11.352689
X-APPLE-STRUCTURED-LOCATION;VALUE=URI;X-ADDRESS=Neudorfer Weg 11\, Obertrub
 ach\, Deutschland;X-APPLE-RADIUS=100;X-TITLE=Feuerwehr Obertrubach:geo:49.
 693987,11.352689
END:VEVENT
BEGIN:VTIMEZONE
TZID:Europe/Berlin
X-LIC-LOCATION:Europe/Berlin
BEGIN:DAYLIGHT
DTSTART:20220327T030000
TZOFFSETFROM:+0100
TZOFFSETTO:+0200
TZNAME:CEST
END:DAYLIGHT
END:VTIMEZONE
END:VCALENDAR