BEGIN:VCALENDAR
VERSION:2.0
PRODID:-//wp-events-plugin.com//7.2.3.1//EN
TZID:Europe/Berlin
X-WR-TIMEZONE:Europe/Berlin
BEGIN:VEVENT
UID:83@feuerwehr-obertrubach.de
DTSTART;TZID=Europe/Berlin:20190427T150000
DTEND;TZID=Europe/Berlin:20190427T190000
DTSTAMP:20190108T184316Z
URL:https://www.feuerwehr-obertrubach.de/events/leistungspruefung/
SUMMARY:Leistungsprüfung
DESCRIPTION:Leitung: Distler P.
ATTACH;FMTTYPE=image/jpeg:https://www.feuerwehr-obertrubach.de/wp-content/
 uploads/2018/01/Uebung.jpg
CATEGORIES:Schulung,Übung
LOCATION:Sportheim Obertrubach\, Am Sportplatz 1\, Obertrubach\, Bayern\, 9
 1286\, Oberfranken\, Deutschland
GEO:49.69511;11.340130000000045
X-APPLE-STRUCTURED-LOCATION;VALUE=URI;X-ADDRESS=Am Sportplatz 1\, Obertruba
 ch\, Bayern\, 91286\, Oberfranken\, Deutschland;X-APPLE-RADIUS=100;X-TITLE
 =Sportheim Obertrubach:geo:49.69511,11.340130000000045
END:VEVENT
BEGIN:VTIMEZONE
TZID:Europe/Berlin
X-LIC-LOCATION:Europe/Berlin
BEGIN:DAYLIGHT
DTSTART:20190331T030000
TZOFFSETFROM:+0100
TZOFFSETTO:+0200
TZNAME:CEST
END:DAYLIGHT
END:VTIMEZONE
END:VCALENDAR